BEGIN:VCALENDAR
VERSION:2.0
PRODID:-//OmniMagnetCalendar//EN
BEGIN:VEVENT
DTSTAMP:20190625T195740Z
STATUS:CONFIRMED
UID:whartondc.com4265
DTSTART:20211103T160000Z
DTEND:20211103T173000Z
LOCATION:Virtual, 5601 River Road, Bethesda, MD, 20816, USA,
SUMMARY:Meet John T. McNeal, US Army Vet & Founder of Elysiem LLC, luxury pet retail store
DESCRIPTION:Elysiem is in Bethesda. Wharton Club of DC Members invited to this Special BCC Rotary Club Event. All Members & Guests Welcome. RSVP by 11/2.
BEGIN:VALARM
TRIGGER:-PT15M
ACTION:DISPLAY
END:VALARM
TRANSP:OPAQUE
END:VEVENT
END:VCALENDAR
