BEGIN:VCALENDAR
VERSION:2.0
PRODID:-//OmniMagnetCalendar//EN
BEGIN:VEVENT
DTSTAMP:20190625T195740Z
STATUS:CONFIRMED
UID:whartondc.com4269
DTSTART:20211028T163000Z
DTEND:20211028T163000Z
LOCATION:The National Press Club, 13th Floor, 529 - 14th Street, NW, Washington, DC, 20045, USA,
SUMMARY:NPC Headliners Luncheon: Jérôme Pécresse, CEO of GE Renewable Energy
DESCRIPTION:Wharton Club members & guests are invited to Luncheon at National Press Club with Jérôme Pécresse, CEO of GE Renewable Energy - SOLD OUT!
BEGIN:VALARM
TRIGGER:-PT15M
ACTION:DISPLAY
END:VALARM
TRANSP:OPAQUE
END:VEVENT
END:VCALENDAR
