BEGIN:VCALENDAR
VERSION:2.0
PRODID:-//OmniMagnetCalendar//EN
BEGIN:VEVENT
DTSTAMP:20190625T195740Z
STATUS:CONFIRMED
UID:whartondc.com4349
DTSTART:20220203T200000Z
DTEND:20220203T210000Z
LOCATION:Virtual,
SUMMARY:2022 JJBirthday Cast Party
DESCRIPTION:Cast Party for James Joyce Birthday Celebration: Everybody is welcome to the cast party tomorrow, Thursday February 3 from 2 to 4 PM EST.
BEGIN:VALARM
TRIGGER:-PT15M
ACTION:DISPLAY
END:VALARM
TRANSP:OPAQUE
END:VEVENT
END:VCALENDAR
