BEGIN:VCALENDAR
VERSION:2.0
PRODID:-//OmniMagnetCalendar//EN
BEGIN:VEVENT
DTSTAMP:20190625T195740Z
STATUS:CONFIRMED
UID:whartondc.com4352
DTSTART:20220224T160000Z
DTEND:20220224T170000Z
LOCATION:The National Press Club, 13th Floor, 529 - 14th Street, NW, 13th Floor, Washington, DC, 20045, USA,
SUMMARY:NPC Virtual Newsmaker: American Medical Association President, Gerald Harmon M.D.
DESCRIPTION:Dr. Harmon will discuss the road ahead and the challenges physicians face in the fight against COVID-19. Wharton Club members & guests are invited to attend this virtual program.
BEGIN:VALARM
TRIGGER:-PT15M
ACTION:DISPLAY
END:VALARM
TRANSP:OPAQUE
END:VEVENT
END:VCALENDAR
