BEGIN:VCALENDAR
VERSION:2.0
PRODID:-//OmniMagnetCalendar//EN
BEGIN:VEVENT
DTSTAMP:20190625T195740Z
STATUS:CONFIRMED
UID:whartondc.com4368
DTSTART:20220322T220000Z
DTEND:20220322T230000Z
LOCATION:Virtual, 7300 Macarthur Blvd, Popcorn Building / 2d Floor, Glen Echo, MD, 20812, USA,
SUMMARY:TEDCO: Navigating Maryland’s Start-up Community as Women Entrepreneurs 3/22
DESCRIPTION:Join us for a unique Women’s Month event featuring entrepreneurs from Maryland’s technology and life sciences community. Hear from four women leaders as they share their experiences – from overcoming obstacles to advancing their businesses and secur
BEGIN:VALARM
TRIGGER:-PT15M
ACTION:DISPLAY
END:VALARM
TRANSP:OPAQUE
END:VEVENT
END:VCALENDAR
