BEGIN:VCALENDAR
VERSION:2.0
PRODID:-//OmniMagnetCalendar//EN
BEGIN:VEVENT
DTSTAMP:20190625T195740Z
STATUS:CONFIRMED
UID:whartondc.com4459
DTSTART:20221209T224500Z
DTEND:20221210T023000Z
LOCATION:Park Hyatt Washington - 24th & M Sts., NW, 1201 - 24th Street, NW, Ballroom, Washington, DC, 20037, USA,
SUMMARY:51st Wharton Award Dinner Celebrates Leading Alums, Michelin-Honored Cuisine - Honors....Kim Alfonso
DESCRIPTION:CEO Results One LLC; Andrew Chase WG79, EVP JustinBradley; Victor McCrary GEX95, VP, Res@UDC; Manpreet Singh WG09, ChiefInvOff, Singh Capital; Sheila Robinson, GED16, CEO Diversity Woman; Bart Stichman C70 Veterans Advocate
BEGIN:VALARM
TRIGGER:-PT15M
ACTION:DISPLAY
END:VALARM
TRANSP:OPAQUE
END:VEVENT
END:VCALENDAR
