BEGIN:VCALENDAR
VERSION:2.0
PRODID:-//OmniMagnetCalendar//EN
BEGIN:VEVENT
DTSTAMP:20190625T195740Z
STATUS:CONFIRMED
UID:whartondc.com4550
DTSTART:20230425T160000Z
DTEND:20230425T173000Z
LOCATION:The Woman's Club of Chevy Chase, 7931 Connecticut Ave, Chevy Chase, MD, 20815, USA,
SUMMARY:Meet Katarzyna Rybka-Iwańska who will discuss "Outstanding Polish Women" 4/25
DESCRIPTION:Katarzyna Rybka-Iwańska is a career diplomat and the head of public and cultural diplomacy at the Embassy of the Republic of Poland in Washington, D.C. Wharton Club members and guests are invited.
BEGIN:VALARM
TRIGGER:-PT15M
ACTION:DISPLAY
END:VALARM
TRANSP:OPAQUE
END:VEVENT
END:VCALENDAR
