BEGIN:VCALENDAR
VERSION:2.0
PRODID:-//OmniMagnetCalendar//EN
BEGIN:VEVENT
DTSTAMP:20190625T195740Z
STATUS:CONFIRMED
UID:whartondc.com4569
DTSTART:20230411T160000Z
DTEND:20230411T170000Z
LOCATION:The Woman's Club of Chevy Chase, 7931 Connecticut Ave, Chevy Chase, MD, 20815, USA,
SUMMARY:Brad Good, President of The China Declaration discusses "A China Strategy" 4/11
DESCRIPTION:Brad Good is a China specialist who started living and working in China in 1988. Wharton Club members and guests are invited.
BEGIN:VALARM
TRIGGER:-PT15M
ACTION:DISPLAY
END:VALARM
TRANSP:OPAQUE
END:VEVENT
END:VCALENDAR
