BEGIN:VCALENDAR
VERSION:2.0
PRODID:-//OmniMagnetCalendar//EN
BEGIN:VEVENT
DTSTAMP:20190625T195740Z
STATUS:CONFIRMED
UID:whartondc.com4599
DTSTART:20230523T000000Z
DTEND:20230523T010000Z
LOCATION:Virtual, 155 Gibbs Street, Rockville, MD, 20850, USA,
SUMMARY:Award Winning Documentary “Fanny: The Right to Rock” 5/22
DESCRIPTION:Groundbreaking All-Female Rock Band - Fanny, Hailed as the “Female Beatles”, are Celebrated in this Joyous Film Featuring Interviews with Musicians. Wharton Club members and guests are invited. Watch on WETA or other station!
BEGIN:VALARM
TRIGGER:-PT15M
ACTION:DISPLAY
END:VALARM
TRANSP:OPAQUE
END:VEVENT
END:VCALENDAR
