BEGIN:VCALENDAR
VERSION:2.0
PRODID:-//OmniMagnetCalendar//EN
BEGIN:VEVENT
DTSTAMP:20190625T195740Z
STATUS:CONFIRMED
UID:whartondc.com4651
DTSTART:20231109T224500Z
DTEND:20231110T023000Z
LOCATION:Park Hyatt Washington - 24th & M Sts., NW, 1201 - 24th Street, NW, Ballroom, Washington, DC, 20037, USA,
SUMMARY:52nd Wharton Award Gala Celebrates Leading Alums, Michelin-Honored Cuisine - Honors: Jamey Jeff,
DESCRIPTION:AWS Head-Investments; David Quattrone, W+EE95,CTO,Cvent; Sam Spiritos,W84,Managing S/H, Shulman Rogers; Lee Corey,SVP MorganStanley; Jim Griffin,WG71, Marcia J. Griffin/Founders, HomeFree USA; Billy Shore,C''77, ExecChair, ShareOurStrength
BEGIN:VALARM
TRIGGER:-PT15M
ACTION:DISPLAY
END:VALARM
TRANSP:OPAQUE
END:VEVENT
END:VCALENDAR
