BEGIN:VCALENDAR
VERSION:2.0
PRODID:-//OmniMagnetCalendar//EN
BEGIN:VEVENT
DTSTAMP:20190625T195740Z
STATUS:CONFIRMED
UID:whartondc.com4711
DTSTART:20231218T143000Z
DTEND:20231218T153000Z
LOCATION:Virtual, 3000 Whitehaven St NW, Washington, DC, 20008, USA,
SUMMARY:Regional Policy Leadership Series: Regional Attorneys General, presented by Uber 12/18
DESCRIPTION:The Regional Policy Leadership Series brings together the Greater Washington region’s Attorneys General. Wharton Club members & guests are invited!
BEGIN:VALARM
TRIGGER:-PT15M
ACTION:DISPLAY
END:VALARM
TRANSP:OPAQUE
END:VEVENT
END:VCALENDAR
