BEGIN:VCALENDAR
VERSION:2.0
PRODID:-//OmniMagnetCalendar//EN
BEGIN:VEVENT
DTSTAMP:20190625T195740Z
STATUS:CONFIRMED
UID:whartondc.com4713
DTSTART:20231204T210000Z
DTEND:20231205T003000Z
LOCATION:Embassy of Italy, 3000 Whitehaven St NW, Washington, DC, 20008, USA,
SUMMARY:Cinema: Callas Forever ~ A biography directed by Franco Zeffirelli 12/4
DESCRIPTION:Maria Callas was a personal friend of Franco Zefferelli. The movie is inspired by her extraordinary life as an international opera singer. Wharton Club members & guests are invited!
BEGIN:VALARM
TRIGGER:-PT15M
ACTION:DISPLAY
END:VALARM
TRANSP:OPAQUE
END:VEVENT
END:VCALENDAR
