BEGIN:VCALENDAR
VERSION:2.0
PRODID:-//OmniMagnetCalendar//EN
BEGIN:VEVENT
DTSTAMP:20190625T195740Z
STATUS:CONFIRMED
UID:whartondc.com4716
DTSTART:20240206T170000Z
DTEND:20240206T183000Z
LOCATION:Woman’s Club of Chevy Chase,, 7931 Connecticut Avenue, Chevy Chase, MD, 20815, USA,
SUMMARY:Meet Andrew Wilder: “Lessons from the failure to achieve peace in Afghanistan.” 2/6
DESCRIPTION:Dr. Andrew Wilder is a vice president at the United States Institute of Peace where he leads the Institute’s Asia Center. Wharton Club members and guests are invited!
BEGIN:VALARM
TRIGGER:-PT15M
ACTION:DISPLAY
END:VALARM
TRANSP:OPAQUE
END:VEVENT
END:VCALENDAR
