BEGIN:VCALENDAR
VERSION:2.0
PRODID:-//OmniMagnetCalendar//EN
BEGIN:VEVENT
DTSTAMP:20190625T195740Z
STATUS:CONFIRMED
UID:whartondc.com4733
DTSTART:20240326T160000Z
DTEND:20240326T173000Z
LOCATION:Woman’s Club of Chevy Chase,, 7931 Connecticut Avenue, Chevy Chase, MD, 20815, USA,
SUMMARY:Meet Joram Piatigorsky talks about "Crossing Borders with Integrity" 3/26
DESCRIPTION:Joram Piatigorsky was born in 1940 in Elizabethtown, NY a few months following his parents’ and sister’s escape from France and World War II. Wharton Club members and guests are invited!
BEGIN:VALARM
TRIGGER:-PT15M
ACTION:DISPLAY
END:VALARM
TRANSP:OPAQUE
END:VEVENT
END:VCALENDAR
