BEGIN:VCALENDAR
VERSION:2.0
PRODID:-//OmniMagnetCalendar//EN
BEGIN:VEVENT
DTSTAMP:20190625T195740Z
STATUS:CONFIRMED
UID:whartondc.com4798
DTSTART:20240621T223000Z
DTEND:20240622T003000Z
LOCATION:Embassy of Austria, 3524 International Court, N.W., Washington, DC, 20008, USA,
SUMMARY:Ambassador of Austria Has Invited Us to a Reception at her Embassy
DESCRIPTION:To celebrate our successful Innovation Summit, Her Excellency, Dr. Petra Schneebauer‬, has invited us to Reception at her Embassy. Join us to enjoy their cuisine, culture & connections.
BEGIN:VALARM
TRIGGER:-PT15M
ACTION:DISPLAY
END:VALARM
TRANSP:OPAQUE
END:VEVENT
END:VCALENDAR
