BEGIN:VCALENDAR
VERSION:2.0
PRODID:-//OmniMagnetCalendar//EN
BEGIN:VEVENT
DTSTAMP:20190625T195740Z
STATUS:CONFIRMED
UID:whartondc.com4805
DTSTART:20240625T160000Z
DTEND:20240625T173000Z
LOCATION:Woman’s Club of Chevy Chase,, 7931 Connecticut Avenue, Chevy Chase, MD, 20815, USA,
SUMMARY:Meet Dave Feldman, Executive Director, Bethesda Green 6/25
DESCRIPTION:He is currently co-founder, with his wife Dara, of Virtues Matter, a non-profit that helps make the world’s wisdom and traditions accessible in everyday life. Wharton Club members and guests are invited!
BEGIN:VALARM
TRIGGER:-PT15M
ACTION:DISPLAY
END:VALARM
TRANSP:OPAQUE
END:VEVENT
END:VCALENDAR
