BEGIN:VCALENDAR
VERSION:2.0
PRODID:-//OmniMagnetCalendar//EN
BEGIN:VEVENT
DTSTAMP:20190625T195740Z
STATUS:CONFIRMED
UID:whartondc.com4825
DTSTART:20240813T160000Z
DTEND:20240813T173000Z
LOCATION:Woman’s Club of Chevy Chase,, 7931 Connecticut Avenue, Chevy Chase, MD, 20815, USA,
SUMMARY:Meet Virginia Schad, Trauma Program Director: "Stop the Bleed" 8/13
DESCRIPTION:An award-winning registered nurse with extensive experience as a charge nurse and team lead in the emergency department.  Wharton Club members and guests are invited!
BEGIN:VALARM
TRIGGER:-PT15M
ACTION:DISPLAY
END:VALARM
TRANSP:OPAQUE
END:VEVENT
END:VCALENDAR
