BEGIN:VCALENDAR
VERSION:2.0
PRODID:-//OmniMagnetCalendar//EN
BEGIN:VEVENT
DTSTAMP:20190625T195740Z
STATUS:CONFIRMED
UID:whartondc.com4878
DTSTART:20251106T130000Z
DTEND:20251107T010000Z
LOCATION:Valo Park, 7950 Jones Branch Drive, Conference Center, 1st Floor, Tysons, VA, 22202, USA,
SUMMARY:2025 Wharton DC Innovation Summit: Inventing a Better Future for the World
DESCRIPTION:The Summit will have 4 general sessions / keynotes, including AI/Energy & Natl Security + Unicorn Healthcare CEO. Plus: 3 tracks of 3 sessions each: Healthcare; Funding; Transformative Technologies. All innovators & entrepreneurs are welcome!
BEGIN:VALARM
TRIGGER:-PT15M
ACTION:DISPLAY
END:VALARM
TRANSP:OPAQUE
END:VEVENT
END:VCALENDAR
