BEGIN:VCALENDAR
VERSION:2.0
PRODID:-//OmniMagnetCalendar//EN
BEGIN:VEVENT
DTSTAMP:20190625T195740Z
STATUS:CONFIRMED
UID:whartondc.com4905
DTSTART:20250715T160000Z
DTEND:20250715T173000Z
LOCATION:Woman’s Club of Chevy Chase,, 7931 Connecticut Avenue, Chevy Chase, MD, 20815, USA,
SUMMARY:Bryan Byrd: Surviving Paradise: the Perils and Pleasures of the Caribbean 7/15
DESCRIPTION:He inherited his love for words, meaning, and rhythm from his mother, a distinguished violinist and writer. Wharton Club members and guests are invited!
BEGIN:VALARM
TRIGGER:-PT15M
ACTION:DISPLAY
END:VALARM
TRANSP:OPAQUE
END:VEVENT
END:VCALENDAR
