BEGIN:VCALENDAR
VERSION:2.0
PRODID:-//OmniMagnetCalendar//EN
BEGIN:VEVENT
DTSTAMP:20190625T195740Z
STATUS:CONFIRMED
UID:whartondc.com4930
DTSTART:20250729T153000Z
DTEND:20250729T173000Z
LOCATION:Refraction Innovation Hub at Valo Park, 7950 Jones Branch Drive, 8th Floor, Tysons, VA, 22102, USA,
SUMMARY:Alison M. Cheperdak, J.D.: The Polished Professional, Elevating Everyday Interactions 
DESCRIPTION:Founder of Elevate Etiquette, a distinguished consultancy offering social, business, & dining etiquette courses, as well as international protocol training to help advance careers and lives. Joint event of Wharton & Harvard Clubs of DC
BEGIN:VALARM
TRIGGER:-PT15M
ACTION:DISPLAY
END:VALARM
TRANSP:OPAQUE
END:VEVENT
END:VCALENDAR
