BEGIN:VCALENDAR
VERSION:2.0
PRODID:-//OmniMagnetCalendar//EN
BEGIN:VEVENT
DTSTAMP:20190625T195740Z
STATUS:CONFIRMED
UID:whartondc.com4963
DTSTART:20251207T000000Z
DTEND:20251207T043000Z
LOCATION:Organization of American States, 200 17th Street NW, Washington, DC, 20006, USA,
SUMMARY:American-Austrian Cultural Society: The Viennese Christmas Ball at the OAS 12/6
DESCRIPTION:The American-Austrian Cultural Society is pleased to again invite members and friends of the Wharton Alumni Club in D.C. to join us for Washington’s annual Viennese Christmas Ball.
BEGIN:VALARM
TRIGGER:-PT15M
ACTION:DISPLAY
END:VALARM
TRANSP:OPAQUE
END:VEVENT
END:VCALENDAR
