BEGIN:VCALENDAR
VERSION:2.0
PRODID:-//OmniMagnetCalendar//EN
BEGIN:VEVENT
DTSTAMP:20190625T195740Z
STATUS:CONFIRMED
UID:whartondc.com4965
DTSTART:20260128T230000Z
DTEND:20260129T000000Z
LOCATION:Virtual, 200 17th Street NW, Washington, DC, 20006, USA,
SUMMARY:Massively Better Healthcare: The Innovator's Guide to Tackling Healthcare's Biggest Challenges 1/28
DESCRIPTION:The Innovator's Guide to Tackling Healthcare's Biggest Challenges.
BEGIN:VALARM
TRIGGER:-PT15M
ACTION:DISPLAY
END:VALARM
TRANSP:OPAQUE
END:VEVENT
END:VCALENDAR
