BEGIN:VCALENDAR
VERSION:2.0
PRODID:-//OmniMagnetCalendar//EN
BEGIN:VEVENT
DTSTAMP:20190625T195740Z
STATUS:CONFIRMED
UID:whartondc.com4998
DTSTART:20260216T220000Z
DTEND:20260216T230000Z
LOCATION:Virtual,  1000 Massachusetts Ave, NW,, Washington, DC, 20001, US,
SUMMARY:No Fear, No Failure with Lorraine H. Marchand 2/16
DESCRIPTION:February 16 | 5-6 p.m. Beneficial-Hodson Library and Learning Commons. Wharton Club members & guests are invited!
BEGIN:VALARM
TRIGGER:-PT15M
ACTION:DISPLAY
END:VALARM
TRANSP:OPAQUE
END:VEVENT
END:VCALENDAR
