BEGIN:VCALENDAR
VERSION:2.0
PRODID:-//OmniMagnetCalendar//EN
BEGIN:VEVENT
DTSTAMP:20190625T195740Z
STATUS:CONFIRMED
UID:whartondc.com5004
DTSTART:20260131T150000Z
DTEND:20260131T180000Z
LOCATION:Izaak Walton League of America Headquarters, 707 Conservation Lane, Gaithersburg, MD , 20878, US,
SUMMARY:DMV Winter Salt Week Open House 1/31
DESCRIPTION:Join us to learn how to stay safe while protecting the environment during the winter months at the DMV Winter Salt Week event! Wharton Club members & guests are invited!
BEGIN:VALARM
TRIGGER:-PT15M
ACTION:DISPLAY
END:VALARM
TRANSP:OPAQUE
END:VEVENT
END:VCALENDAR
