BEGIN:VCALENDAR
VERSION:2.0
PRODID:-//OmniMagnetCalendar//EN
BEGIN:VEVENT
DTSTAMP:20190625T195740Z
STATUS:CONFIRMED
UID:whartondc.com5005
DTSTART:20260414T160000Z
DTEND:20260414T173000Z
LOCATION:The Woman's Club of Chevy Chase,  7931 Connecticut Avenue, Suite 1204, Chevy Chase, MD, 20815, USA,
SUMMARY:Thomas M. Palmer & Natalya Radovanskaya: Update on Ukraine 4/14
DESCRIPTION:Thomas is a long-time member and leader in the Rotary Club of Fairfax. Natalya Radovanskaya is a Ukrainian educator and long-time Rotary leader. Wharton Club members and guests are invited!
BEGIN:VALARM
TRIGGER:-PT15M
ACTION:DISPLAY
END:VALARM
TRANSP:OPAQUE
END:VEVENT
END:VCALENDAR
