BEGIN:VCALENDAR
VERSION:2.0
PRODID:-//OmniMagnetCalendar//EN
BEGIN:VEVENT
DTSTAMP:20190625T195740Z
STATUS:CONFIRMED
UID:whartondc.com5031
DTSTART:20260609T130000Z
DTEND:20260609T200000Z
LOCATION:Chamber's historic Washington, D.C., headquarters, 1615 H St., NW., Washington, DC, 20062, USA,
SUMMARY:2026 U.S. Chamber Capital Markets Summit 6/9
DESCRIPTION:The U.S. Chamber of Commerce introduces the Capital Markets Summit. Wharton Club Members and Guests are invited!
BEGIN:VALARM
TRIGGER:-PT15M
ACTION:DISPLAY
END:VALARM
TRANSP:OPAQUE
END:VEVENT
END:VCALENDAR
