BEGIN:VCALENDAR
VERSION:2.0
PRODID:-//OmniMagnetCalendar//EN
BEGIN:VEVENT
DTSTAMP:20190625T195740Z
STATUS:CONFIRMED
UID:whartondc.com5032
DTSTART:20260309T230000Z
DTEND:20260310T010000Z
LOCATION:Embassy of Austria, 3524 International Court Northwest, Washington, DC, 20008, USA,
SUMMARY:Leading the Story: Women Journalists Across Generations | Film & Panel 3/9
DESCRIPTION:Join us for a screening of the film Unsichtbare Mauern (Invisible Walls) by Austrian filmmaker Robert Pöcksteiner. Wharton Club Members and Guests are invited!
BEGIN:VALARM
TRIGGER:-PT15M
ACTION:DISPLAY
END:VALARM
TRANSP:OPAQUE
END:VEVENT
END:VCALENDAR
