BEGIN:VCALENDAR
VERSION:2.0
PRODID:-//OmniMagnetCalendar//EN
BEGIN:VEVENT
DTSTAMP:20190625T195740Z
STATUS:CONFIRMED
UID:whartondc.com5033
DTSTART:20260428T150000Z
DTEND:20260428T160000Z
LOCATION:Children’s National Hospital, Sheikh Zayed Campus, 111 Michigan Ave. NW, 2nd Floor Auditorium, Washington, DC, 20010, USA,
SUMMARY:Children’s National Hospital: Nobelist Dr. Jennifer Doudna,  CRISPR Co-Creator 4/28
DESCRIPTION:Join Us for the Annual Allistair Abraham, MD, Endowed Lecture. Wharton Club Members and Guests are invited to attend in person or on Zoom as this renowned scientist discusses her important work! If in person, we'll be having lunch after at Children's Hosp
BEGIN:VALARM
TRIGGER:-PT15M
ACTION:DISPLAY
END:VALARM
TRANSP:OPAQUE
END:VEVENT
END:VCALENDAR
