BEGIN:VCALENDAR
VERSION:2.0
PRODID:-//OmniMagnetCalendar//EN
BEGIN:VEVENT
DTSTAMP:20190625T195740Z
STATUS:CONFIRMED
UID:whartondc.com5034
DTSTART:20260329T210000Z
DTEND:20260329T230000Z
LOCATION:Center for the Arts at George Mason University , 4400 University Drive, 2nd Floor Auditorium, Fairfax, VA, 22030, USA,
SUMMARY:Rick Steves’ Europe: A Symphonic Journey  Sunday, March 29 | 5PM
DESCRIPTION:Best known for his acclaimed PBS series and bestselling travel guides, Rick Steves invites audiences on a different kind of journey. Wharton Club Members and Guests are invited!
BEGIN:VALARM
TRIGGER:-PT15M
ACTION:DISPLAY
END:VALARM
TRANSP:OPAQUE
END:VEVENT
END:VCALENDAR
