BEGIN:VCALENDAR
VERSION:2.0
PRODID:-//OmniMagnetCalendar//EN
BEGIN:VEVENT
DTSTAMP:20190625T195740Z
STATUS:CONFIRMED
UID:whartondc.com5035
DTSTART:20260310T160000Z
DTEND:20260310T173000Z
LOCATION:The Woman's Club of Chevy Chase,  7931 Connecticut Avenue, Suite 1204, Chevy Chase, MD, 20815, USA,
SUMMARY:Meet Alex Tsironis Who Will Talk About "From Snow Days to No Days Off" 3/10
DESCRIPTION:Alex Tsironis is the founder of The MoCoShow, a leading platform dedicated to news, events, food, and culture in Montgomery County, Maryland. Wharton Club members and guests are invited!
BEGIN:VALARM
TRIGGER:-PT15M
ACTION:DISPLAY
END:VALARM
TRANSP:OPAQUE
END:VEVENT
END:VCALENDAR
